BEGIN:VCALENDAR
PRODID:-//Det Danske Spejderkorps//NONSGML Gruppeweb//EN
VERSION:2.0
CALSCALE:GREGORIAN
X-PUBLISHED-TTL:PT1H
X-WR-CALNAME:Junior (tirsdag 4.-5. kl)
METHOD:PUBLISH
BEGIN:VEVENT
UID:gruppeweb.dk:2117:event:549
DTSTAMP:20260421T135123Z
LAST-MODIFIED:20250409T160158Z
SUMMARY:PANDALØB 2025
DESCRIPTION:Kom og dyst i spejderaktiviteter sammen med alle de andre spejd
 ere på  \nAmager. Man skal løse 8 opgaver og får point for opgaveløsni
 ng og  \nsamarbejde (turn-out). Alle deltagere får et flot pandamærke!\
 nDer foregår på Kastrup Fort.  \n
URL:https://spejdernepaaholmen.dk/begivenhed/pandaloeb-2025
DTSTART:20250427T073000Z
DTEND:20250427T133000Z
LOCATION:Spejderne på Holmen\, Arsenalvej 10\, 1436 København K
END:VEVENT
BEGIN:VEVENT
UID:gruppeweb.dk:2117:event:534
DTSTAMP:20260421T135123Z
LAST-MODIFIED:20250627T165944Z
SUMMARY:Sommerlejr 2025 mikro-mini
DESCRIPTION:Vi glæder os også til at invitere jer med på årets sommerle
 jr. I år  \ntager vi afsted i begyndelsen af sommerferien og vi skal til 
 Thurøbund  \nspejdercenter i det sydfynske øhav. Det er mikro-\, mini- o
 g juniorspejdere\,  \nsom skal afsted sammen. Vi lejer en bus til at køre
  os alle sammen derover.\n\n\nMikro og minispejdere tager afsted d. d. 28/
 6-2/7 og prisen for deltagelsen  \ner 1300 kr.\n\nJuniorspejdere tager afs
 ted d. 28/6-5/7 og prisen for deltagelsen er 1800 Kr.\nThurøbund Spejderc
 enter tilbyder en helt unik spejderoplevelse\, fordi de har  \nspecialiser
 et sig i sejlads. Det betyder at spejderne kan blive udfordret på  \nen h
 elt anderledes måde end de er vant til. Aktiviteterne er tilrettelagt  \n
 så spejderne ikke behøver at have kendskab til at sejle i forvejen. I  
 \ndagens to sejladsperioder står centermedarbejderne for at instruere i  
 \nsejlads\, så spejderne får rig mulighed for at komme på vandet i  \no
 ptimistjoller\, robåde\, kanoer eller sejlbåde.\n\n\nMikroerne kommer no
 k ikke til at sejle så meget\, men måske en tur med den  \nlokale turbå
 d. De skal i stedet lave en masse aktiviteter i vandkanten\, på  \nudflug
 t og en masse andet mikrosjov. \n\nOgså for de ældre spejdere er der ud
 over sejladsaktiviteter mulighed for en  \nrække af naturaktiviteter\, ud
 flugter og almindeligt lejrliv.\n\nDet bliver en skøn tur.\n\n
URL:https://spejdernepaaholmen.dk/begivenhed/sommerlejr-2025-mikro-mini
DTSTART:20250628T070000Z
DTEND:20250702T160000Z
LOCATION:Thurøbund Spejdercenter\, Grastenvej 204C\, 5700 Svendborg
END:VEVENT
BEGIN:VEVENT
UID:gruppeweb.dk:2117:event:535
DTSTAMP:20260421T135123Z
LAST-MODIFIED:20250627T165129Z
SUMMARY:Sommerlejr 2025 junior
DESCRIPTION:Vi glæder os også til at invitere jer med på årets sommerle
 jr. I år  \ntager vi afsted i begyndelsen af sommerferien og vi skal til 
 Thurøbund  \nspejdercenter i det sydfynske øhav. Det er mikro-\, mini- o
 g juniorspejdere\,  \nsom skal afsted sammen. Vi lejer en bus til at køre
  os alle sammen derover.\n\n\n\nThurøbund Spejdercenter tilbyder en helt 
 unik spejderoplevelse\, fordi de har  \nspecialiseret sig i sejlads. Det b
 etyder at spejderne kan blive udfordret på  \nen helt anderledes måde en
 d de er vant til. Aktiviteterne er tilrettelagt  \nså spejderne ikke beh
 øver at have kendskab til at sejle i forvejen. I  \ndagens to sejladsper
 ioder står centermedarbejderne for at instruere i  \nsejlads\, så spejde
 rne får rig mulighed for at komme på vandet i  \noptimistjoller\, robåd
 e\, kanoer eller sejlbåde.\n\n\nMikroerne kommer nok ikke til at sejle s
 å meget\, men måske en tur med den  \nlokale turbåd. De skal i stedet l
 ave en masse aktiviteter i vandkanten\, på  \nudflugt og en masse andet m
 ikrosjov. \n\nOgså for de ældre spejdere er der udover sejladsaktivitet
 er mulighed for en  \nrække af naturaktiviteter\, udflugter og almindelig
 t lejrliv.\n\nDet bliver en skøn tur.\n\n
URL:https://spejdernepaaholmen.dk/begivenhed/sommerlejr-2025-junior
DTSTART:20250628T070000Z
DTEND:20250702T140000Z
LOCATION:Thurøbund Spejdercenter\, Grastenvej 204C\, 5700 Svendborg
END:VEVENT
BEGIN:VEVENT
UID:gruppeweb.dk:2117:event:557
DTSTAMP:20260421T135123Z
LAST-MODIFIED:20250825T083814Z
SUMMARY:Gruppetur 2025
DESCRIPTION:Så er det nu. Det er tid til gruppetur for Spejderne på Holme
 n\, her er alle  \ngrene inviteret med til en hyggelig og sjov weekend. Ua
 nset om man er helt  \nnystartet mikro- eller minispejder\, erfaren junior
  eller tropsspejder\, så er  \nder plads til alle. Vi lægger et program\
 , der tager hensyn og giver plads  \ntil alle store som små\, så alle f
 år en helt fantastisk tur.\n\nIdeen med gruppeturen er at skabe og synlig
 gøre fællesskabet på tværs af  \nalle grenene.\n\nTuren går til Colle
 ruphus (Høje Sandbjergvej 11D\, 2840 Holte).\n\nMikro og mini mødes på 
 Spejdercenter Holmen kl. 16.30 d. 29. august.\nJunior og trop mødes ved N
 ørreport kl. 16.30 d. 29. august\n\nTuren sluttes af med hjemkomst til Ho
 lmen kl. 12. d. 31. august for alle.\n\nFamiliespejdere er velkomne hele e
 ller dele af weekenden.\n\nPå vores hjemmeside kan du læse mere om de ov
 ervejelser man som forældre  \nkan have\, når man skal sende sin spejder
  afsted på  \nspejdertur: https://spejdernepaaholmen.dk/info-om-spejdert
 ur [1]\n\nLæs gerne mere om pakningen  \nher: https://spejdernepaaholmen
 .dk/pak-din-rygsaek [2]. Bemærk\, at da vi  \nskal være indendørs er de
 t en god idé at medbringe et par sutsko. Ellers  \nligner pakkelisten sig
  selv og det er som altid vigtigt\, at din spejder  \npakker rygsækken se
 lv (selvfølgelig med din hjælp). Pak i gennemsigtige  \nposer og skriv n
 avn i alting. \n\nVi ser frem til en rigtig hyggelig weekend med jer alle
 sammen  -  Mange  \nspejderhilsner bestyrelsen\n\n\n[1] https://spejdern
 epaaholmen.dk/info-om-spejdertur\n[2] https://spejdernepaaholmen.dk/pak-di
 n-rygsaek\n
URL:https://spejdernepaaholmen.dk/begivenhed/gruppetur-2025
DTSTART:20250829T143000Z
DTEND:20250831T110000Z
LOCATION:Colleruphus\, Høje Sandbjergvej 11D\, 2840 Holte
END:VEVENT
BEGIN:VEVENT
UID:gruppeweb.dk:2117:event:559
DTSTAMP:20260421T135123Z
LAST-MODIFIED:20260212T142728Z
SUMMARY:Sankesøndag
DESCRIPTION:Sankesøndag - vi kan slet ikke få nok af at spise hvad nature
 n kan byde os!\nVi tager til Kongsøre\, spiser frokost og tilbereder sene
 re hvad vi har  \nsamlet inden vi vender hjem igen. \n\nHUSK:\n\n- Gode s
 ko\n\n- Tøj efter vejret \n\n- Turtaske\, drikkedunk og en kæmpe madpak
 ke\n\n- At have spist en stor morgenmad hjemmefra  \n\nOBS: Vi har brug f
 or hjælp fra en del forældre til kørsel.\n\nVi mødes på Holmen kl. 9 
 og fylder bilerne op.\n\nSend en SMS til Thomas på mobil 60118795\, hvis 
 I kan hjælpe med at køre  \nud/hjem eller begge veje. Så koordinerer ha
 n pladserne. \n\nDet bliver verdens fedeste tur - og et virkelig flot mæ
 rke til uniformen :)\n\n
URL:https://spejdernepaaholmen.dk/begivenhed/sankesoendag
DTSTART:20250921T070000Z
DTEND:20250921T160000Z
LOCATION:Spejderne på Holmen\, Arsenalvej 10\, 1436 København K
END:VEVENT
BEGIN:VEVENT
UID:gruppeweb.dk:2117:event:563
DTSTAMP:20260421T135123Z
LAST-MODIFIED:20260212T142717Z
SUMMARY:Tirsdagsjuniorernes hyttetur
DESCRIPTION:Kære Juniorspejdere!\nNu er tilmeldingen til verdens fedeste e
 fterårstur åbnet!\n\n\n\nTuren går til hytten Myretuen i nærheden af b
 uresøen fredag\nkl. 16.30 fra Christianshavns torv.\nAllerede ved afgang 
 tager vi hul på det ultimative juniorspejdermål: 10  \nmærker\npå 24 t
 imer!!!!\nDet bliver en hæsblæsende tur med udfordringer\, hygge og snac
 ks!\nVi er hjemme igen på Christianshavns torv kl. 12 søndag.\n\n\n\nDen
 ne tur bliver kun til ved hjælp af gode forældrekræfter.\nVi har både 
 brug for hjælp i form af slikposer 26 stk. (2 x 13 stk.)\, kage\,\nkiks o
 g burgerboller.\nVi kan vist godt løfte sløret for at et af mærkerne in
 volverer burgere i  \nstor\nstil!\nVi kunne også bruge en forældrehjælp
 er med på turen\, så hvis der er  \nnogen\, der\nkunne tænke sig at giv
 e en hånd ville det være meget påskønnet! Skriv  \nendelig\ntil Camill
 a: 61666912.\n\n\n\nVi skal bo i hytte med madrasser\, så alle børn bede
 s have et\nlagen og hjemmesko med. Pakkeliste til weekendtur (hyttetur) me
 d godt med  \nvarmt\ntøj\, men samtidig skal de selv kunne gå med deres 
 oppakning!\n\n\n\n\nAt tage 10 mærker på 24 timer er lidt en dyr fornøj
 else. Den\ner derfor frivillig og vi skal nok have sjove alternativer for 
 de\, som ikke  \nhar\nlyst.\nOBS da juniorernes budget ikke kan bære indk
 øb af SÅ mange mærker\, vil  \nder være\nen egen betaling\, hvis man g
 erne vil tage mærkerne. Denne er på 250 kr.\, og\noverføres til Rikke:
  23208896 (husk spejdernavn).\nVi glæder os til en super fed tur sammen m
 ed jer!\nTilmeldingsfrist 5.11.2025.\nVed specielle kosthensyn (vegetar el
 ler lign.)\, SMS til Thomas: 60118795\nSpejderhilsner fra lederne\n\n\n\n
URL:https://spejdernepaaholmen.dk/begivenhed/tirsdagsjuniorernes-hyttetur
DTSTART:20251114T153000Z
DTEND:20251116T110000Z
LOCATION:Christianshavns Torv\, 1410
END:VEVENT
BEGIN:VEVENT
UID:gruppeweb.dk:2117:event:572
DTSTAMP:20260421T135123Z
LAST-MODIFIED:20260304T133246Z
SUMMARY:Påskehejk 2026
DESCRIPTION:Spejderne på Holmen inviterer spejdere i alle aldre til årets
  hyggeligste  \ngåtur\, nemlig vores årlige påskehejk🐣 Vi har ruter 
 i alle distancer\,  \nså der er passende udfordringer til alle fra famili
 espejder til trop.  \nSpejderne går afsted i grupper opdelt efter distanc
 e\, og der er ledere med i  \nalle grupperne. Familiespejderne tager som a
 ltid mor eller far med. \n\n\nVi mødes søndag den 29. marts kl. 9:00 p
 å Østerport station\, på forsiden  \naf bygningen. Her vil der være en
  fælles velkomst\, før vi inddeler os i  \nhold og tager s-toget til Sko
 dsborg st. Hvor vi går afsted på de  \nforskellige ruter🌱\n\n\nAlle r
 uter slutter forskelligt afhængig af distance. Når grupperne er  \nfærd
 ige tager vi S-toget tilbage til Østerport. Dermed bliver afhentning  \nv
 ed Østerport st\, hvor vi giver besked når de forskellige grupper er  \n
 fremme. \n\nMedbring godt fodtøj\, solid madpakke\, drikkedunk og tøj e
 fter vejret\, samt  \nen lille rygsæk til at bære det hele i. Der vil v
 ære mulighed for  \nopfyldning af drikkedunken et par steder undervejs p
 å de længere ruter⛰\n\nDer er uniformsmærker til alle distancer som v
 il blive udleveret når vi  \nkommer i mål.\n\n\nAf hensyn til lederbeman
 ding vil vi gerne vide hvor mange der deltager.\n\n
URL:https://spejdernepaaholmen.dk/begivenhed/paaskehejk-2026
DTSTART:20260329T070000Z
DTEND:20260329T150000Z
LOCATION:Østerport St.\, Oslo Plads 8\, 2100 København Ø
END:VEVENT
BEGIN:VEVENT
UID:gruppeweb.dk:2117:event:574
DTSTAMP:20260421T135123Z
LAST-MODIFIED:20260331T110147Z
SUMMARY:Pandaløb 2026
DESCRIPTION:*Tag med på pandamission på Kastrup Fort!\n*\nI skal løse sp
 ejderopgaver og samle point gennem godt samarbejde.\nDer er præmie til be
 dste patrulje og alle belønnes med det flotte  \npandamærke.\n
URL:https://spejdernepaaholmen.dk/begivenhed/pandaloeb-2026
DTSTART:20260426T073000Z
DTEND:20260426T130000Z
LOCATION:Kastrup Fort\, Amager Strandvej 242\, 2300 København S
END:VEVENT
BEGIN:VEVENT
UID:gruppeweb.dk:2117:event:568
DTSTAMP:20260421T135123Z
LAST-MODIFIED:20260325T084449Z
SUMMARY:Spejdernes lejr 2026 - 5 dage (junior)
DESCRIPTION:-------- *\n         * ----------------------------------------
 ---------------------------\n\n-------- *Spejdernes lejr - Oplevelser for 
 livet.* ---------------------------\n\nSpejdernes Lejr foregår fra 18. ti
 l 26. juli 2026 i Hedeland Naturpark. Det  \ner otte dage fulde af sjove a
 ktiviteter\, nye venskaber\, store oplevelser og  \nmasser af spejderliv s
 ammen med dem du kender fra gruppen\, men med rig  \nmulighed for at møde
  spejdere på tværs af korps fra resten af Danmark og  \nhele verden.\n\n
 Spejderne på Holmen skal selvfølgelig også med\, og vi håber\, at DU v
 il  \nvære en del af oplevelsen!\n\n-------- *Hvorfor skal du med på Spe
 jdernes Lejr 2026?* ---------------------\n\nSpejdernes Lejr er en lidt st
 ørre oplevelse\, end du er vant til fra  \ngruppeture og centerlejre. Lej
 ren foregår hvert fjerde år forskellige  \nsteder i Danmark. Hvis du tag
 er med på Spejdernes Lejr 2026 får du: \n\n * En hel uge fyldt med akti
 viteter\, udfordringer og oplevelser.\n   \n * Et unikt fællesskab med sp
 ejdere fra hele landet og resten af verden.\n   \n * Oplevelsen af en spej
 derby\, hvor 30.000 børn\, unge og voksne bor\, leger\,\n   lærer og arb
 ejder sammen.\n   \n * Minder for livet!\n   \n\n-------- *Information til
  Spejderne på Holmen* ------------------------------\n\nHos Spejderne på
  Holmen er Spejdernes lejr et tilbud til tirsdagsminier og  \ntorsdags-sko
 vtrolde (mini)\, tirsdagsjunior og bjergtrolde (junior) og  \ntropsspejder
 e (trop). Familie og mikrospejdere er velkommen til at komme på  \nbesøg
  med deres forældre på besøgsdagen\, men deltager ikke med  \novernatni
 ng.\n\nLejrens længde og pris afhænger af\, hvilken gren du er spejder i
 :\n\n•Tropsspejdere: 18.–26. juli (9 dage): 2475 kr. (tilmelding  \nv
 ia https://medlem.dds.dk/event/id/65599/register [1])\n\n•Juniorspejder
 e: 18.–23. juli (5 dage): 1815 kr. \n\n•Minispejdere: 19.–23. juli 
 (4 dage): 1610 kr. (tilmelding  \nvia https://medlem.dds.dk/event/id/6560
 1/register [2])\n\nTroppen deltager som udgangspunkt i hele lejren d. 18.-
 26. juli dvs. 8  \ndage. Juniorspejderne deltager som udgangspunkt d. 18.
 -23 juli dvs. 5 dage  \nog minispejdere deltager d. 19.-23 juli dvs. 4 dag
 e. Det er muligt at deltage  \nkortere tid efter aftale med din ledere. Hv
 is du f.eks. er tropsspejder og  \nkun ønsker at deltage 5 dage\, så til
 meld dig ”Spejdernes lejr 2026 5 dage  \n(junior)” via linket ovenfor.
  Husk at give din ledere besked.\n\nBemærk: Tilmeldingsfristen er den 28.
  februar 2026. Vi ved\, at det kan  \nføles tidligt at planlægge sommerf
 erien\, og der er mulighed for senere  \ntilmelding. Fristen er dog vigtig
  af to grunde: Lejrpladsens størrelse  \nfastlægges 1. marts ud fra anta
 llet af tilmeldte\, og da pladserne er små\,  \ner der begrænset mulighe
 d for eftertilmeldinger. Derudover stiger prisen  \nefter 1. marts. Har du
  blot en overvejelse om at deltage\, anbefaler vi  \nderfor\, at du tilmel
 der dig inden fristen. Du kan altid melde fra senere\,  \nselvom vi håber
 \, at alle har tid og lyst til at være med.\n\n \n\n\n\n[1] https://medl
 em.dds.dk/event/id/65599/register\n[2] https://medlem.dds.dk/event/id/6560
 1/register\n
URL:https://spejdernepaaholmen.dk/begivenhed/spejdernes-lejr-2026-5-dage-ju
 nior
DTSTART:20260718T100000Z
DTEND:20260723T100000Z
LOCATION:Hedeland naturpark\, Hedeland 2P\, 2640 Hedehusene
END:VEVENT
BEGIN:VEVENT
UID:gruppeweb.dk:2117:event:567
DTSTAMP:20260421T135123Z
LAST-MODIFIED:20260325T084450Z
SUMMARY:Spejdernes lejr 2026 - 4 dage (mini)
DESCRIPTION:-------- *\n         * ----------------------------------------
 ---------------------------\n\n-------- *Spejdernes lejr - Oplevelser for 
 livet.* ---------------------------\n\nSpejdernes Lejr foregår fra 18. ti
 l 26. juli 2026 i Hedeland Naturpark. Det  \ner otte dage fulde af sjove a
 ktiviteter\, nye venskaber\, store oplevelser og  \nmasser af spejderliv s
 ammen med dem du kender fra gruppen\, men med rig  \nmulighed for at møde
  spejdere på tværs af korps fra resten af Danmark og  \nhele verden.\n\n
 Spejderne på Holmen skal selvfølgelig også med\, og vi håber\, at DU v
 il  \nvære en del af oplevelsen!\n\n-------- *Hvorfor skal du med på Spe
 jdernes Lejr 2026?* ---------------------\n\nSpejdernes Lejr er en lidt st
 ørre oplevelse\, end du er vant til fra  \ngruppeture og centerlejre. Lej
 ren foregår hvert fjerde år forskellige  \nsteder i Danmark. Hvis du tag
 er med på Spejdernes Lejr 2026 får du: \n\n * En hel uge fyldt med akti
 viteter\, udfordringer og oplevelser.\n   \n * Et unikt fællesskab med sp
 ejdere fra hele landet og resten af verden.\n   \n * Oplevelsen af en spej
 derby\, hvor 30.000 børn\, unge og voksne bor\, leger\,\n   lærer og arb
 ejder sammen.\n   \n * Minder for livet!\n   \n\n-------- *Information til
  Spejderne på Holmen* ------------------------------\n\nHos Spejderne på
  Holmen er Spejdernes lejr et tilbud til tirsdagsminier og  \ntorsdags-sko
 vtrolde (mini)\, tirsdagsjunior og bjergtrolde (junior) og  \ntropsspejder
 e (trop). Familie og mikrospejdere er velkommen til at komme på  \nbesøg
  med deres forældre på besøgsdagen\, men deltager ikke med  \novernatni
 ng.\n\nLejrens længde og pris afhænger af\, hvilken gren du er spejder i
 :\n\n•Tropsspejdere: 18.–26. juli (9 dage): 2475 kr. (tilmelding  \nv
 ia https://medlem.dds.dk/event/id/65599/register [1])\n\n•Juniorspejder
 e: 18.–23. juli (5 dage): 1815 kr. (tilmelding  \nvia https://medlem.d
 ds.dk/event/id/65600/register [2])\n\n•Minispejdere: 19.–23. juli (4 d
 age): 1610 kr. \n\nTroppen deltager som udgangspunkt i hele lejren d. 18.
 -26. juli dvs. 8 dage.  \nJuniorspejderne deltager som udgangspunkt d. 18.
 -23 juli dvs. 5 dage og  \nminispejdere deltager d. 19.-23 juli dvs. 4 dag
 e. Det er muligt at deltage  \nkortere tid efter aftale med din ledere. Hv
 is du f.eks. er tropsspejder og  \nkun ønsker at deltage 5 dage\, så til
 meld dig ”Spejdernes lejr 2026 5 dage  \n(junior)” via linket ovenfor.
  Husk at give din ledere besked.\n\nBemærk: Tilmeldingsfristen er den 28.
  februar 2026. Vi ved\, at det kan  \nføles tidligt at planlægge sommerf
 erien\, og der er mulighed for senere  \ntilmelding. Fristen er dog vigtig
  af to grunde: Lejrpladsens størrelse  \nfastlægges 1. marts ud fra anta
 llet af tilmeldte\, og da pladserne er små\,  \ner der begrænset mulighe
 d for eftertilmeldinger. Derudover stiger prisen  \nefter 1. marts. Har du
  blot en overvejelse om at deltage\, anbefaler vi  \nderfor\, at du tilmel
 der dig inden fristen. Du kan altid melde fra senere\,  \nselvom vi håber
 \, at alle har tid og lyst til at være med.\n\n \n\n\n\n[1] https://medl
 em.dds.dk/event/id/65599/register\n[2] https://medlem.dds.dk/event/id/6560
 0/register\n
URL:https://spejdernepaaholmen.dk/begivenhed/spejdernes-lejr-2026-4-dage-mi
 ni
DTSTART:20260719T100000Z
DTEND:20260723T100000Z
LOCATION:Hedeland naturpark\, Hedeland 2P\, 2640 Hedehusene
END:VEVENT
END:VCALENDAR
